BEGIN:VCALENDAR
VERSION:2.0
PRODID:-//Havenwood Preschool - ECPv4.6.1//NONSGML v1.0//EN
CALSCALE:GREGORIAN
METHOD:PUBLISH
X-WR-CALNAME:Havenwood Preschool
X-ORIGINAL-URL:https://havenwoodpreschool.org
X-WR-CALDESC:Events for Havenwood Preschool
BEGIN:VEVENT
DTSTART;VALUE=DATE:20260105
DTEND;VALUE=DATE:20260106
DTSTAMP:20260419T150226
CREATED:20131029T021431Z
LAST-MODIFIED:20250506T183100Z
UID:53-1767571200-1767657599@havenwoodpreschool.org
SUMMARY:School Reopens After Christmas Vacation
DESCRIPTION:School reopens on January 5\, 2026. \n
URL:https://havenwoodpreschool.org/event/school-reopens-after-christmas-vacation/
END:VEVENT
END:VCALENDAR