BEGIN:VCALENDAR
VERSION:2.0
PRODID:-//Havenwood Preschool - ECPv4.6.1//NONSGML v1.0//EN
CALSCALE:GREGORIAN
METHOD:PUBLISH
X-WR-CALNAME:Havenwood Preschool
X-ORIGINAL-URL:https://havenwoodpreschool.org
X-WR-CALDESC:Events for Havenwood Preschool
BEGIN:VEVENT
DTSTART;VALUE=DATE:20241105
DTEND;VALUE=DATE:20241107
DTSTAMP:20260422T113026
CREATED:20141007T164510Z
LAST-MODIFIED:20240502T144758Z
UID:609-1730764800-1730937599@havenwoodpreschool.org
SUMMARY:Wildlife Adventures visits!
DESCRIPTION:Ms. Val with Wildlife loves to teach the children about different animals and they get to touch them!\nwildlife-adventures.com \n
URL:https://havenwoodpreschool.org/event/wildlife-adventures-visits/
END:VEVENT
END:VCALENDAR