BEGIN:VCALENDAR
VERSION:2.0
PRODID:-//Havenwood Preschool - ECPv4.6.1//NONSGML v1.0//EN
CALSCALE:GREGORIAN
METHOD:PUBLISH
X-WR-CALNAME:Havenwood Preschool
X-ORIGINAL-URL:https://havenwoodpreschool.org
X-WR-CALDESC:Events for Havenwood Preschool
BEGIN:VEVENT
DTSTART;VALUE=DATE:20241101
DTEND;VALUE=DATE:20241102
DTSTAMP:20260422T112827
CREATED:20131119T132215Z
LAST-MODIFIED:20240318T163017Z
UID:256-1730419200-1730505599@havenwoodpreschool.org
SUMMARY:Havenwood closed Staff Development - Kindergarten & Daycare open
DESCRIPTION:Staff Development Day.   \nHavenwood Closed – Kindergarten & Daycare Open.   \n
URL:https://havenwoodpreschool.org/event/havenwood-closed-3/
END:VEVENT
END:VCALENDAR