BEGIN:VCALENDAR
VERSION:2.0
PRODID:-//Havenwood Preschool - ECPv4.6.1//NONSGML v1.0//EN
CALSCALE:GREGORIAN
METHOD:PUBLISH
X-WR-CALNAME:Havenwood Preschool
X-ORIGINAL-URL:https://havenwoodpreschool.org
X-WR-CALDESC:Events for Havenwood Preschool
BEGIN:VEVENT
DTSTART;VALUE=DATE:20241031
DTEND;VALUE=DATE:20241101
DTSTAMP:20260422T113026
CREATED:20240318T163913Z
LAST-MODIFIED:20240318T163913Z
UID:11872-1730332800-1730419199@havenwoodpreschool.org
SUMMARY:After Care closes at 4:30
DESCRIPTION:Extended care closes at 4:30.  Trick or Treat! \n
URL:https://havenwoodpreschool.org/event/after-care-closes-at-430/
END:VEVENT
END:VCALENDAR