BEGIN:VCALENDAR
VERSION:2.0
PRODID:-//Havenwood Preschool - ECPv4.6.1//NONSGML v1.0//EN
CALSCALE:GREGORIAN
METHOD:PUBLISH
X-WR-CALNAME:Havenwood Preschool
X-ORIGINAL-URL:https://havenwoodpreschool.org
X-WR-CALDESC:Events for Havenwood Preschool
BEGIN:VEVENT
DTSTART;VALUE=DATE:20241018
DTEND;VALUE=DATE:20241019
DTSTAMP:20260422T130840
CREATED:20160824T132041Z
LAST-MODIFIED:20240502T152107Z
UID:902-1729209600-1729295999@havenwoodpreschool.org
SUMMARY:Havenwood Closed - Extended Closed
DESCRIPTION:Maryland State Teacher’s Convention.\n
URL:https://havenwoodpreschool.org/event/havenwood-closed-daycare-open/
END:VEVENT
END:VCALENDAR