BEGIN:VCALENDAR
VERSION:2.0
PRODID:-//Havenwood Preschool - ECPv4.6.1//NONSGML v1.0//EN
CALSCALE:GREGORIAN
METHOD:PUBLISH
X-WR-CALNAME:Havenwood Preschool
X-ORIGINAL-URL:https://havenwoodpreschool.org
X-WR-CALDESC:Events for Havenwood Preschool
BEGIN:VEVENT
DTSTART;VALUE=DATE:20240905
DTEND;VALUE=DATE:20240907
DTSTAMP:20260422T143653
CREATED:20210706T152415Z
LAST-MODIFIED:20240318T170219Z
UID:2848-1725494400-1725667199@havenwoodpreschool.org
SUMMARY:Visitation Days - Times to be determined
DESCRIPTION:TIMES TO BE DETERMINED.\n
URL:https://havenwoodpreschool.org/event/visitation-days/
END:VEVENT
END:VCALENDAR