BEGIN:VCALENDAR
VERSION:2.0
PRODID:-//Havenwood Preschool - ECPv4.6.1//NONSGML v1.0//EN
CALSCALE:GREGORIAN
METHOD:PUBLISH
X-WR-CALNAME:Havenwood Preschool
X-ORIGINAL-URL:https://havenwoodpreschool.org
X-WR-CALDESC:Events for Havenwood Preschool
BEGIN:VEVENT
DTSTART;TZID=UTC-4:20240729T090000
DTEND;TZID=UTC-4:20240823T110000
DTSTAMP:20260422T155114
CREATED:20180228T185855Z
LAST-MODIFIED:20240318T170932Z
UID:1383-1722243600-1724410800@havenwoodpreschool.org
SUMMARY:Office Reopens 9:00 to 11:00
DESCRIPTION:Preschool Office Summer Hours 9:00 – 11:00.  If no answer\, please leave a message & someone will call you back in a timely manner or you can email havenwoodcenteroffice@comcast.net\n
URL:https://havenwoodpreschool.org/event/office-summer-hours/
END:VEVENT
END:VCALENDAR