BEGIN:VCALENDAR
VERSION:2.0
PRODID:-//Havenwood Preschool - ECPv4.6.1//NONSGML v1.0//EN
CALSCALE:GREGORIAN
METHOD:PUBLISH
X-WR-CALNAME:Havenwood Preschool
X-ORIGINAL-URL:https://havenwoodpreschool.org
X-WR-CALDESC:Events for Havenwood Preschool
BEGIN:VEVENT
DTSTART;TZID=UTC-4:20240528T080000
DTEND;TZID=UTC-4:20240614T120000
DTSTAMP:20260422T183509
CREATED:20230127T194057Z
LAST-MODIFIED:20231204T161235Z
UID:8200-1716883200-1718366400@havenwoodpreschool.org
SUMMARY:Extended Summer Care
DESCRIPTION:Extended Summer Care\nTuesday\, May 28th through June 14th \nEarly Bird 8:00 to 9:00\nClass Time 9:00 to 12:00\nAfter Care 12:00 to 5:00 (closes at noon on June 16th) \n
URL:https://havenwoodpreschool.org/event/extended-summer-care/
END:VEVENT
END:VCALENDAR