BEGIN:VCALENDAR
VERSION:2.0
PRODID:-//Havenwood Preschool - ECPv4.6.1//NONSGML v1.0//EN
CALSCALE:GREGORIAN
METHOD:PUBLISH
X-WR-CALNAME:Havenwood Preschool
X-ORIGINAL-URL:https://havenwoodpreschool.org
X-WR-CALDESC:Events for Havenwood Preschool
BEGIN:VEVENT
DTSTART;VALUE=DATE:20240523
DTEND;VALUE=DATE:20240524
DTSTAMP:20260422T200635
CREATED:20140312T174507Z
LAST-MODIFIED:20240318T173757Z
UID:526-1716422400-1716508799@havenwoodpreschool.org
SUMMARY:Last Day Celebrations for 5 day & T/Th classes.
DESCRIPTION:Last day for Mrs. Huber’s\, Mrs. Parks’  \nMrs. Hare’s\, Mrs. Zinzi’s 2 day \nand Two’s T/Th \n** Parents invited to celebrate.  More info to follow.  \n
URL:https://havenwoodpreschool.org/event/last-day-celebrations-3/
END:VEVENT
END:VCALENDAR