BEGIN:VCALENDAR
VERSION:2.0
PRODID:-//Havenwood Preschool - ECPv4.6.1//NONSGML v1.0//EN
CALSCALE:GREGORIAN
METHOD:PUBLISH
X-WR-CALNAME:Havenwood Preschool
X-ORIGINAL-URL:https://havenwoodpreschool.org
X-WR-CALDESC:Events for Havenwood Preschool
BEGIN:VEVENT
DTSTART;VALUE=DATE:20240522
DTEND;VALUE=DATE:20240523
DTSTAMP:20260422T200737
CREATED:20140312T175335Z
LAST-MODIFIED:20240318T173623Z
UID:527-1716336000-1716422399@havenwoodpreschool.org
SUMMARY:Last Day Celebrations for 3 day classes
DESCRIPTION:Last day for Mrs. Smith’s M/W/F class\,   \nMrs. Zinzi’s M/W/F  and Ms. Herring’s M/W/F\, \nand Two’s M/W/F classes. \n**Parents invited to celebrate!  More info to follow.  \n
URL:https://havenwoodpreschool.org/event/last-day-celebrations-4/
END:VEVENT
END:VCALENDAR