BEGIN:VCALENDAR
VERSION:2.0
PRODID:-//Havenwood Preschool - ECPv4.6.1//NONSGML v1.0//EN
CALSCALE:GREGORIAN
METHOD:PUBLISH
X-WR-CALNAME:Havenwood Preschool
X-ORIGINAL-URL:https://havenwoodpreschool.org
X-WR-CALDESC:Events for Havenwood Preschool
BEGIN:VEVENT
DTSTART;VALUE=DATE:20240509
DTEND;VALUE=DATE:20240511
DTSTAMP:20260422T200516
CREATED:20140312T173339Z
LAST-MODIFIED:20240502T152304Z
UID:525-1715212800-1715385599@havenwoodpreschool.org
SUMMARY:Conferences for 2's\, 3's and 4's.
DESCRIPTION:Conferences\nTimes will be determined through your child’s teacher.\n
URL:https://havenwoodpreschool.org/event/conferences-4/
END:VEVENT
END:VCALENDAR